Package: SOMNiBUS Version: 1.18.0 Command: /home/biocbuild/bbs-3.22-bioc/R/bin/R CMD check --install=check:SOMNiBUS.install-out.txt --library=/home/biocbuild/bbs-3.22-bioc/R/site-library --timings SOMNiBUS_1.18.0.tar.gz StartedAt: 2025-11-26 04:44:09 -0500 (Wed, 26 Nov 2025) EndedAt: 2025-11-26 05:02:48 -0500 (Wed, 26 Nov 2025) EllapsedTime: 1119.0 seconds RetCode: 0 Status: OK CheckDir: SOMNiBUS.Rcheck Warnings: 0