Package: SOMNiBUS Version: 1.18.0 Command: /Library/Frameworks/R.framework/Resources/bin/R CMD INSTALL SOMNiBUS StartedAt: 2025-11-03 15:42:43 -0500 (Mon, 03 Nov 2025) EndedAt: 2025-11-03 15:43:49 -0500 (Mon, 03 Nov 2025) EllapsedTime: 66.2 seconds RetCode: 0 Status: OK