Package: SOMNiBUS Version: 1.18.0 Command: /Library/Frameworks/R.framework/Resources/bin/R CMD build --keep-empty-dirs --no-resave-data SOMNiBUS StartedAt: 2025-11-03 18:52:20 -0500 (Mon, 03 Nov 2025) EndedAt: 2025-11-03 18:56:50 -0500 (Mon, 03 Nov 2025) EllapsedTime: 270.7 seconds RetCode: 0 Status: OK PackageFile: SOMNiBUS_1.18.0.tar.gz PackageFileSize: 1.034 MiB