Package: SNPhood Version: 1.40.0 Command: /home/biocbuild/bbs-3.22-bioc/R/bin/R CMD INSTALL SNPhood StartedAt: 2025-11-02 15:54:59 -0500 (Sun, 02 Nov 2025) EndedAt: 2025-11-02 15:56:13 -0500 (Sun, 02 Nov 2025) EllapsedTime: 74.1 seconds RetCode: 0 Status: OK