Package: SNPhood Version: 1.40.0 Command: /home/biocbuild/bbs-3.22-bioc/R/bin/R CMD build --keep-empty-dirs --no-resave-data --md5 SNPhood StartedAt: 2025-10-31 20:20:53 -0400 (Fri, 31 Oct 2025) EndedAt: 2025-10-31 20:25:24 -0400 (Fri, 31 Oct 2025) EllapsedTime: 271.3 seconds RetCode: 0 Status: OK PackageFile: SNPhood_1.40.0.tar.gz PackageFileSize: 6.715 MiB