Package: SNPediaR Version: 1.34.0 Command: /home/biocbuild/R/R/bin/R CMD build --keep-empty-dirs --no-resave-data SNPediaR StartedAt: 2025-10-14 04:51:15 -0000 (Tue, 14 Oct 2025) EndedAt: 2025-10-14 04:51:29 -0000 (Tue, 14 Oct 2025) EllapsedTime: 14.0 seconds RetCode: 0 Status: OK PackageFile: SNPediaR_1.34.0.tar.gz PackageFileSize: 254.8 KiB