Package: SNPRelate Version: 1.44.0 Command: /home/biocbuild/bbs-3.22-bioc/R/bin/R CMD INSTALL SNPRelate StartedAt: 2025-11-20 15:57:24 -0500 (Thu, 20 Nov 2025) EndedAt: 2025-11-20 15:58:01 -0500 (Thu, 20 Nov 2025) EllapsedTime: 36.9 seconds RetCode: 0 Status: OK