Package: SNPRelate Version: 1.44.0 Command: /home/biocbuild/bbs-3.22-bioc/R/bin/R CMD build --keep-empty-dirs --no-resave-data --md5 SNPRelate StartedAt: 2025-11-20 21:01:21 -0500 (Thu, 20 Nov 2025) EndedAt: 2025-11-20 21:02:11 -0500 (Thu, 20 Nov 2025) EllapsedTime: 49.1 seconds RetCode: 0 Status: OK PackageFile: SNPRelate_1.44.0.tar.gz PackageFileSize: 3.323 MiB