Package: SNAGEE Version: 1.50.0 Command: /home/biocbuild/bbs-3.22-bioc/R/bin/R CMD INSTALL SNAGEE StartedAt: 2025-11-11 15:08:14 -0500 (Tue, 11 Nov 2025) EndedAt: 2025-11-11 15:08:36 -0500 (Tue, 11 Nov 2025) EllapsedTime: 22.5 seconds RetCode: 0 Status: OK