Package: SNAGEE Version: 1.50.0 Command: /home/biocbuild/bbs-3.22-bioc/R/bin/R CMD build --keep-empty-dirs --no-resave-data --md5 SNAGEE StartedAt: 2025-11-11 20:18:47 -0500 (Tue, 11 Nov 2025) EndedAt: 2025-11-11 20:19:16 -0500 (Tue, 11 Nov 2025) EllapsedTime: 29.0 seconds RetCode: 0 Status: OK PackageFile: SNAGEE_1.50.0.tar.gz PackageFileSize: 169.9 KiB