Package: SNAGEE Version: 1.50.0 Command: /Library/Frameworks/R.framework/Resources/bin/R CMD INSTALL SNAGEE StartedAt: 2025-11-10 15:02:23 -0500 (Mon, 10 Nov 2025) EndedAt: 2025-11-10 15:02:34 -0500 (Mon, 10 Nov 2025) EllapsedTime: 10.5 seconds RetCode: 0 Status: OK