Package: SNAGEE Version: 1.50.0 Command: /Library/Frameworks/R.framework/Resources/bin/R CMD build --keep-empty-dirs --no-resave-data SNAGEE StartedAt: 2025-11-10 17:48:18 -0500 (Mon, 10 Nov 2025) EndedAt: 2025-11-10 17:48:34 -0500 (Mon, 10 Nov 2025) EllapsedTime: 16.2 seconds RetCode: 0 Status: OK PackageFile: SNAGEE_1.50.0.tar.gz PackageFileSize: 169.3 KiB