Package: SNAGEE Version: 1.50.0 Command: rm -rf SNAGEE.buildbin-libdir && mkdir SNAGEE.buildbin-libdir && /Users/biocbuild/BBS/utils/build-universal.sh SNAGEE_1.50.0.tar.gz /Library/Frameworks/R.framework/Resources/bin/R SNAGEE.buildbin-libdir StartedAt: 2025-11-10 23:37:32 -0500 (Mon, 10 Nov 2025) EndedAt: 2025-11-10 23:37:35 -0500 (Mon, 10 Nov 2025) EllapsedTime: 2.1 seconds RetCode: 0 Status: OK PackageFile: SNAGEE_1.50.0.tgz PackageFileSize: 187.4 KiB