Package: SMITE Version: 1.38.0 Command: /home/biocbuild/bbs-3.22-bioc/R/bin/R CMD INSTALL SMITE StartedAt: 2025-11-13 15:44:27 -0500 (Thu, 13 Nov 2025) EndedAt: 2025-11-13 15:45:16 -0500 (Thu, 13 Nov 2025) EllapsedTime: 49.4 seconds RetCode: 0 Status: OK