Package: SMAD Version: 1.26.0 Command: /home/biocbuild/bbs-3.22-bioc/R/bin/R CMD build --keep-empty-dirs --no-resave-data --md5 SMAD StartedAt: 2025-11-11 20:18:22 -0500 (Tue, 11 Nov 2025) EndedAt: 2025-11-11 20:18:41 -0500 (Tue, 11 Nov 2025) EllapsedTime: 19.0 seconds RetCode: 0 Status: OK PackageFile: SMAD_1.26.0.tar.gz PackageFileSize: 439.1 KiB