Package: SLqPCR Version: 1.76.0 Command: /home/biocbuild/R/R/bin/R CMD INSTALL SLqPCR StartedAt: 2025-11-10 21:04:17 -0000 (Mon, 10 Nov 2025) EndedAt: 2025-11-10 21:04:49 -0000 (Mon, 10 Nov 2025) EllapsedTime: 31.1 seconds RetCode: 0 Status: OK