Package: SLqPCR Version: 1.76.0 Command: /home/biocbuild/R/R/bin/R CMD build --keep-empty-dirs --no-resave-data SLqPCR StartedAt: 2025-11-11 05:17:05 -0000 (Tue, 11 Nov 2025) EndedAt: 2025-11-11 05:17:10 -0000 (Tue, 11 Nov 2025) EllapsedTime: 5.0 seconds RetCode: 0 Status: OK PackageFile: SLqPCR_1.76.0.tar.gz PackageFileSize: 215 KiB