Package: SLqPCR Version: 1.76.0 Command: /home/biocbuild/bbs-3.22-bioc/R/bin/R CMD INSTALL SLqPCR StartedAt: 2025-11-11 15:07:24 -0500 (Tue, 11 Nov 2025) EndedAt: 2025-11-11 15:07:36 -0500 (Tue, 11 Nov 2025) EllapsedTime: 12.0 seconds RetCode: 0 Status: OK