Package: SLqPCR Version: 1.76.0 Command: /home/biocbuild/bbs-3.22-bioc/R/bin/R CMD build --keep-empty-dirs --no-resave-data --md5 SLqPCR StartedAt: 2025-11-11 20:18:17 -0500 (Tue, 11 Nov 2025) EndedAt: 2025-11-11 20:18:22 -0500 (Tue, 11 Nov 2025) EllapsedTime: 5.0 seconds RetCode: 0 Status: OK PackageFile: SLqPCR_1.76.0.tar.gz PackageFileSize: 221.4 KiB