Package: SLqPCR Version: 1.74.0 Command: /home/biocbuild/bbs-3.21-bioc/R/bin/R CMD INSTALL SLqPCR StartedAt: 2025-09-28 15:18:14 -0400 (Sun, 28 Sep 2025) EndedAt: 2025-09-28 15:18:26 -0400 (Sun, 28 Sep 2025) EllapsedTime: 11.6 seconds RetCode: 0 Status: OK