Package: SLqPCR Version: 1.74.0 Command: /Library/Frameworks/R.framework/Resources/bin/R CMD INSTALL SLqPCR StartedAt: 2025-10-13 15:07:31 -0400 (Mon, 13 Oct 2025) EndedAt: 2025-10-13 15:08:00 -0400 (Mon, 13 Oct 2025) EllapsedTime: 29.5 seconds RetCode: 0 Status: OK