Package: SLqPCR Version: 1.74.0 Command: /Library/Frameworks/R.framework/Resources/bin/R CMD INSTALL SLqPCR StartedAt: 2025-09-29 15:15:40 -0400 (Mon, 29 Sep 2025) EndedAt: 2025-09-29 15:15:42 -0400 (Mon, 29 Sep 2025) EllapsedTime: 1.2 seconds RetCode: 0 Status: OK