Package: SLqPCR Version: 1.74.0 Command: rm -rf SLqPCR.buildbin-libdir && mkdir SLqPCR.buildbin-libdir && /Users/biocbuild/BBS/utils/build-universal.sh SLqPCR_1.74.0.tar.gz /Library/Frameworks/R.framework/Resources/bin/R SLqPCR.buildbin-libdir StartedAt: 2025-10-01 20:35:05 -0400 (Wed, 01 Oct 2025) EndedAt: 2025-10-01 20:35:09 -0400 (Wed, 01 Oct 2025) EllapsedTime: 3.4 seconds RetCode: 0 Status: OK PackageFile: SLqPCR_1.74.0.tgz PackageFileSize: 236.4 KiB