Package: SIMLR Version: 1.34.0 Command: /home/biocbuild/bbs-3.21-bioc/R/bin/R CMD INSTALL SIMLR StartedAt: 2025-09-28 15:20:00 -0400 (Sun, 28 Sep 2025) EndedAt: 2025-09-28 15:20:23 -0400 (Sun, 28 Sep 2025) EllapsedTime: 22.8 seconds RetCode: 0 Status: OK