Package: SIMLR Version: 1.34.0 Command: /Library/Frameworks/R.framework/Resources/bin/R CMD INSTALL SIMLR StartedAt: 2025-10-13 15:09:59 -0400 (Mon, 13 Oct 2025) EndedAt: 2025-10-13 15:10:50 -0400 (Mon, 13 Oct 2025) EllapsedTime: 50.8 seconds RetCode: 0 Status: OK