Package: SIMLR Version: 1.34.0 Command: rm -rf SIMLR.buildbin-libdir && mkdir SIMLR.buildbin-libdir && /Users/biocbuild/BBS/utils/build-universal.sh SIMLR_1.34.0.tar.gz /Library/Frameworks/R.framework/Resources/bin/R SIMLR.buildbin-libdir StartedAt: 2025-10-14 14:48:32 -0400 (Tue, 14 Oct 2025) EndedAt: 2025-10-14 14:49:27 -0400 (Tue, 14 Oct 2025) EllapsedTime: 55.1 seconds RetCode: 0 Status: OK PackageFile: SIMLR_1.34.0.tgz PackageFileSize: 4.26 MiB