Package: SIMD Version: 1.28.0 Command: /home/biocbuild/R/R/bin/R CMD INSTALL SIMD StartedAt: 2025-11-17 21:05:24 -0000 (Mon, 17 Nov 2025) EndedAt: 2025-11-17 21:05:58 -0000 (Mon, 17 Nov 2025) EllapsedTime: 34.3 seconds RetCode: 0 Status: OK