Package: SIMD Version: 1.28.0 Command: /home/biocbuild/R/R/bin/R CMD build --keep-empty-dirs --no-resave-data SIMD StartedAt: 2025-11-18 05:08:36 -0000 (Tue, 18 Nov 2025) EndedAt: 2025-11-18 05:08:46 -0000 (Tue, 18 Nov 2025) EllapsedTime: 10.0 seconds RetCode: 0 Status: OK PackageFile: SIMD_1.28.0.tar.gz PackageFileSize: 356.3 KiB