Package: SIMD Version: 1.28.0 Command: /home/biocbuild/bbs-3.22-bioc/R/bin/R CMD INSTALL SIMD StartedAt: 2025-11-11 15:07:46 -0500 (Tue, 11 Nov 2025) EndedAt: 2025-11-11 15:08:06 -0500 (Tue, 11 Nov 2025) EllapsedTime: 20.1 seconds RetCode: 0 Status: OK