Package: SIMD Version: 1.26.0 Command: /home/biocbuild/bbs-3.21-bioc/R/bin/R CMD INSTALL SIMD StartedAt: 2025-10-12 15:03:41 -0400 (Sun, 12 Oct 2025) EndedAt: 2025-10-12 15:04:01 -0400 (Sun, 12 Oct 2025) EllapsedTime: 19.8 seconds RetCode: 0 Status: OK