Package: SIMD Version: 1.26.0 Command: /Library/Frameworks/R.framework/Resources/bin/R CMD build --keep-empty-dirs --no-resave-data SIMD StartedAt: 2025-10-10 09:57:21 -0400 (Fri, 10 Oct 2025) EndedAt: 2025-10-10 09:57:35 -0400 (Fri, 10 Oct 2025) EllapsedTime: 13.4 seconds RetCode: 0 Status: OK PackageFile: SIMD_1.26.0.tar.gz PackageFileSize: 332.9 KiB