Package: SIMD Version: 1.26.0 Command: rm -rf SIMD.buildbin-libdir && mkdir SIMD.buildbin-libdir && /Users/biocbuild/BBS/utils/build-universal.sh SIMD_1.26.0.tar.gz /Library/Frameworks/R.framework/Resources/bin/R SIMD.buildbin-libdir StartedAt: 2025-10-11 22:20:29 -0400 (Sat, 11 Oct 2025) EndedAt: 2025-10-11 22:20:35 -0400 (Sat, 11 Oct 2025) EllapsedTime: 5.7 seconds RetCode: 0 Status: OK PackageFile: SIMD_1.26.0.tgz PackageFileSize: 357.3 KiB