Package: SIMAT Version: 1.42.0 Command: /home/biocbuild/R/R/bin/R CMD build --keep-empty-dirs --no-resave-data SIMAT StartedAt: 2025-11-14 05:24:30 -0000 (Fri, 14 Nov 2025) EndedAt: 2025-11-14 05:24:55 -0000 (Fri, 14 Nov 2025) EllapsedTime: 25.0 seconds RetCode: 0 Status: OK PackageFile: SIMAT_1.42.0.tar.gz PackageFileSize: 1.033 MiB