Package: SIMAT Version: 1.42.0 Command: /home/biocbuild/bbs-3.22-bioc/R/bin/R CMD INSTALL SIMAT StartedAt: 2025-11-11 15:26:39 -0500 (Tue, 11 Nov 2025) EndedAt: 2025-11-11 15:26:47 -0500 (Tue, 11 Nov 2025) EllapsedTime: 8.2 seconds RetCode: 0 Status: OK