Package: SIMAT Version: 1.40.0 Command: /home/biocbuild/R/R/bin/R CMD INSTALL SIMAT StartedAt: 2025-09-25 20:39:30 -0000 (Thu, 25 Sep 2025) EndedAt: 2025-09-25 20:39:40 -0000 (Thu, 25 Sep 2025) EllapsedTime: 9.3 seconds RetCode: 0 Status: OK