Package: SIMAT Version: 1.40.0 Command: /home/biocbuild/R/R/bin/R CMD build --keep-empty-dirs --no-resave-data SIMAT StartedAt: 2025-09-26 06:01:18 -0000 (Fri, 26 Sep 2025) EndedAt: 2025-09-26 06:01:40 -0000 (Fri, 26 Sep 2025) EllapsedTime: 22.0 seconds RetCode: 0 Status: OK PackageFile: SIMAT_1.40.0.tar.gz PackageFileSize: 1.033 MiB