Package: SIM Version: 1.80.0 Command: /home/biocbuild/R/R/bin/R CMD build --keep-empty-dirs --no-resave-data SIM StartedAt: 2025-11-21 05:55:59 -0000 (Fri, 21 Nov 2025) EndedAt: 2025-11-21 05:56:43 -0000 (Fri, 21 Nov 2025) EllapsedTime: 44.0 seconds RetCode: 0 Status: OK PackageFile: SIM_1.80.0.tar.gz PackageFileSize: 451.3 KiB