Package: SIM Version: 1.80.0 Command: /home/biocbuild/bbs-3.22-bioc/R/bin/R CMD INSTALL SIM StartedAt: 2025-11-11 15:33:45 -0500 (Tue, 11 Nov 2025) EndedAt: 2025-11-11 15:34:03 -0500 (Tue, 11 Nov 2025) EllapsedTime: 18.3 seconds RetCode: 0 Status: OK