Package: SIM Version: 1.78.0 Command: /home/biocbuild/bbs-3.21-bioc/R/bin/R CMD build --keep-empty-dirs --no-resave-data SIM StartedAt: 2025-10-12 19:57:57 -0400 (Sun, 12 Oct 2025) EndedAt: 2025-10-12 19:58:29 -0400 (Sun, 12 Oct 2025) EllapsedTime: 32.0 seconds RetCode: 0 Status: OK PackageFile: SIM_1.78.0.tar.gz PackageFileSize: 461.5 KiB