Package: SICtools Version: 1.40.0 Command: /home/biocbuild/bbs-3.22-bioc/R/bin/R CMD INSTALL SICtools StartedAt: 2025-11-11 15:21:24 -0500 (Tue, 11 Nov 2025) EndedAt: 2025-11-11 15:21:59 -0500 (Tue, 11 Nov 2025) EllapsedTime: 34.8 seconds RetCode: 0 Status: OK