Package: SICtools Version: 1.40.0 Command: /home/biocbuild/bbs-3.22-bioc/R/bin/R CMD build --keep-empty-dirs --no-resave-data --md5 SICtools StartedAt: 2025-11-11 20:13:18 -0500 (Tue, 11 Nov 2025) EndedAt: 2025-11-11 20:14:04 -0500 (Tue, 11 Nov 2025) EllapsedTime: 46.0 seconds RetCode: 0 Status: OK PackageFile: SICtools_1.40.0.tar.gz PackageFileSize: 1.536 MiB