Package: SICtools Version: 1.38.0 Command: /home/biocbuild/R/R/bin/R CMD INSTALL SICtools StartedAt: 2025-09-25 20:30:24 -0000 (Thu, 25 Sep 2025) EndedAt: 2025-09-25 20:31:15 -0000 (Thu, 25 Sep 2025) EllapsedTime: 50.3 seconds RetCode: 0 Status: OK