Package: SICtools Version: 1.38.0 Command: /home/biocbuild/R/R/bin/R CMD build --keep-empty-dirs --no-resave-data SICtools StartedAt: 2025-09-26 05:59:20 -0000 (Fri, 26 Sep 2025) EndedAt: 2025-09-26 06:00:25 -0000 (Fri, 26 Sep 2025) EllapsedTime: 65.0 seconds RetCode: 0 Status: OK PackageFile: SICtools_1.38.0.tar.gz PackageFileSize: 1.528 MiB