Package: SIAMCAT Version: 2.14.0 Command: /home/biocbuild/bbs-3.22-bioc/R/bin/R CMD build --keep-empty-dirs --no-resave-data --md5 SIAMCAT StartedAt: 2025-11-11 20:13:11 -0500 (Tue, 11 Nov 2025) EndedAt: 2025-11-11 20:16:23 -0500 (Tue, 11 Nov 2025) EllapsedTime: 192.2 seconds RetCode: 0 Status: OK PackageFile: SIAMCAT_2.14.0.tar.gz PackageFileSize: 18.85 MiB