Package: SIAMCAT Version: 2.14.0 Command: /Library/Frameworks/R.framework/Resources/bin/R CMD build --keep-empty-dirs --no-resave-data SIAMCAT StartedAt: 2025-11-10 17:45:20 -0500 (Mon, 10 Nov 2025) EndedAt: 2025-11-10 17:46:52 -0500 (Mon, 10 Nov 2025) EllapsedTime: 92.0 seconds RetCode: 0 Status: OK PackageFile: SIAMCAT_2.14.0.tar.gz PackageFileSize: 18.86 MiB