Package: SIAMCAT Version: 2.14.0 Command: rm -rf SIAMCAT.buildbin-libdir && mkdir SIAMCAT.buildbin-libdir && /Users/biocbuild/BBS/utils/build-universal.sh SIAMCAT_2.14.0.tar.gz /Library/Frameworks/R.framework/Resources/bin/R SIAMCAT.buildbin-libdir StartedAt: 2025-11-10 23:36:53 -0500 (Mon, 10 Nov 2025) EndedAt: 2025-11-10 23:37:07 -0500 (Mon, 10 Nov 2025) EllapsedTime: 14.3 seconds RetCode: 0 Status: OK PackageFile: SIAMCAT_2.14.0.tgz PackageFileSize: 10.76 MiB