Package: SGSeq Version: 1.42.1 Command: /home/biocbuild/bbs-3.21-bioc/R/bin/R CMD INSTALL SGSeq StartedAt: 2025-10-15 15:41:58 -0400 (Wed, 15 Oct 2025) EndedAt: 2025-10-15 15:42:38 -0400 (Wed, 15 Oct 2025) EllapsedTime: 40.1 seconds RetCode: 0 Status: OK