Package: SGSeq Version: 1.44.0 Command: /Library/Frameworks/R.framework/Resources/bin/R CMD INSTALL SGSeq StartedAt: 2025-10-30 15:36:38 -0400 (Thu, 30 Oct 2025) EndedAt: 2025-10-30 15:37:34 -0400 (Thu, 30 Oct 2025) EllapsedTime: 56.7 seconds RetCode: 0 Status: OK