Package: SGSeq Version: 1.44.0 Command: rm -rf SGSeq.buildbin-libdir && mkdir SGSeq.buildbin-libdir && /Users/biocbuild/BBS/utils/build-universal.sh SGSeq_1.44.0.tar.gz /Library/Frameworks/R.framework/Resources/bin/R SGSeq.buildbin-libdir StartedAt: 2025-10-30 08:39:23 -0400 (Thu, 30 Oct 2025) EndedAt: 2025-10-30 08:40:22 -0400 (Thu, 30 Oct 2025) EllapsedTime: 58.4 seconds RetCode: 0 Status: OK PackageFile: SGSeq_1.44.0.tgz PackageFileSize: 1.806 MiB