Package: SGSeq Version: 1.42.1 Command: /home/biocbuild/R/R/bin/R CMD INSTALL SGSeq StartedAt: 2025-10-02 20:57:24 -0000 (Thu, 02 Oct 2025) EndedAt: 2025-10-02 20:58:22 -0000 (Thu, 02 Oct 2025) EllapsedTime: 57.2 seconds RetCode: 0 Status: OK